BEGIN:VCALENDAR
VERSION:2.0
PRODID:-//Guitar-Hero.ch - ECPv6.15.18//NONSGML v1.0//EN
CALSCALE:GREGORIAN
METHOD:PUBLISH
X-WR-CALNAME:Guitar-Hero.ch
X-ORIGINAL-URL:https://www.guitar-hero.ch
X-WR-CALDESC:Events for Guitar-Hero.ch
REFRESH-INTERVAL;VALUE=DURATION:PT1H
X-Robots-Tag:noindex
X-PUBLISHED-TTL:PT1H
BEGIN:VTIMEZONE
TZID:Europe/Zurich
BEGIN:DAYLIGHT
TZOFFSETFROM:+0100
TZOFFSETTO:+0200
TZNAME:CEST
DTSTART:20190331T010000
END:DAYLIGHT
BEGIN:STANDARD
TZOFFSETFROM:+0200
TZOFFSETTO:+0100
TZNAME:CET
DTSTART:20191027T010000
END:STANDARD
BEGIN:DAYLIGHT
TZOFFSETFROM:+0100
TZOFFSETTO:+0200
TZNAME:CEST
DTSTART:20200329T010000
END:DAYLIGHT
BEGIN:STANDARD
TZOFFSETFROM:+0200
TZOFFSETTO:+0100
TZNAME:CET
DTSTART:20201025T010000
END:STANDARD
BEGIN:DAYLIGHT
TZOFFSETFROM:+0100
TZOFFSETTO:+0200
TZNAME:CEST
DTSTART:20210328T010000
END:DAYLIGHT
BEGIN:STANDARD
TZOFFSETFROM:+0200
TZOFFSETTO:+0100
TZNAME:CET
DTSTART:20211031T010000
END:STANDARD
END:VTIMEZONE
BEGIN:VEVENT
DTSTART;TZID=Europe/Zurich:20200118T170000
DTEND;TZID=Europe/Zurich:20200118T220000
DTSTAMP:20260419T212733
CREATED:20200215T115823Z
LAST-MODIFIED:20240220T083104Z
UID:552-1579366800-1579384800@www.guitar-hero.ch
SUMMARY:Conférence "du rythme et des pixels" + atelier
DESCRIPTION:Dans le cadre des Jeux Olympiques de la Jeunesse d’hiver 2020\, guitar-hero.ch co-anime une conférence puis un atelier de jeux de rythme.
URL:https://www.guitar-hero.ch/event/conference-du-rythme-et-des-pixels-atelier/
LOCATION:Espace Arlaud\, Place de la Riponne 2bis\, Lausanne\, 1014\, Switzerland
ATTACH;FMTTYPE=image/png:https://www.guitar-hero.ch/wp-content/uploads/2020/02/82154548_1340901276097295_8030019432405270528_n.png
END:VEVENT
END:VCALENDAR